Workbook
Name ADMINISTRATIVO: TODO[DIRECCION ADMINISTRATIVA]
Name ADMINISTRATIVO: TODO[DIRECCION ADMINISTRATIVA]
Name ALCALDIA: TODO[ALCALDIA]
Name ALCALDIA: TODO[ALCALDIA]
Name Competencias: [1]Insumos!$AA$2:$AA$40
Name DESARROLLO: TODO[DIRECCION DE DESARROLLO LOCAL]
Name DESARROLLO: TODO[DIRECCION DE DESARROLLO LOCAL]
Name FINANCIERO: TODO[DIRECCION FINANCIERA]
Name FINANCIERO: TODO[DIRECCION FINANCIERA]
Name METAS: META_INDICADOR[[#All],[METAS]]
Name MIES: TODO[MIES]
Name MIES: TODO[MIES]
Name Modalidades: [1]Insumos!$AB$2:$AB$11
Name OBJETIVOS: Tabla125[OBJETIVOS]
Name OBRAS: TODO[DIRECCION DE OBRAS PUBLICAS]
Name OBRAS: TODO[DIRECCION DE OBRAS PUBLICAS]
Name ODS: [1]!Tabla20[ODS]
Name OPND1: [1]!Tabla1[[#All],[OPND1]]
Name OPND10: [1]!Tabla10[[#All],[OPND10]]
Name OPND11: [1]!Tabla11[[#All],[OPND11]]
Name OPND12: [1]!Tabla12[[#All],[OPND12]]
Name OPND13: [1]!Tabla13[[#All],[OPND13]]
Name OPND14: [1]!Tabla14[[#All],[OPND14]]
Name OPND15: [1]!Tabla15[[#All],[OPND15]]
Name OPND16: [1]!Tabla16[[#All],[OPND16]]
Name OPND2: [1]!Tabla2[[#All],[OPND2]]
Name OPND3: [1]!Tabla3[[#All],[OPND3]]
Name OPND5: [1]!Tabla5[[#All],[OPND5]]
Name OPND6: [1]!Tabla6[[#All],[OPND6]]
Name OPND7: [1]!Tabla7[[#All],[OPND7]]
Name OPND8: [1]!Tabla8[[#All],[OPND8]]
Name OPND9: [1]!Tabla9[[#All],[OPND9]]
Name PDOT1: Tabla13[PDOT1]
Name PDOT2: Tabla14[PDOT2]
Name PDOT3: Tabla15[PDOT3]
Name PDOT4: Tabla16[PDOT4]
Name PDOT5: Tabla17[PDOT5]
Name PDOT6: Tabla18[PDOT6]
Name PDOT7: Tabla19[PDOT7]
Name PDOT8: Tabla19[PDOT7]
Name PDOTOBJ: OBJPDOT[PDOTOBJ]
Name PLANIFICACION: TODO[DIRECCION DE PLANIFICACION Y ORDENAMIENTO TERRITORIAL]
Name PLANIFICACION: TODO[DIRECCION DE PLANIFICACION Y ORDENAMIENTO TERRITORIAL]
Name REGISTRO: TODO[REGISTRO DE LA PROPIEDAD]
Name REGISTRO: TODO[REGISTRO DE LA PROPIEDAD]
Name Tabla20: Tabla19[PDOT7]

Sheet POA-R
Z3: =6000+2000 -> 8000
A9: MATRIZ DE PLAN OPERATIVO ANUAL (POA) - 2025
A10: ESTRATEGIAS DE ACCION INSTITUCIONAL
A11: GESTION DE ASESORIA $ 419,000.00
A12: DIRECCION | B12: NO. | C12: COD. | D12: Objetivo Estrategico PDyOT | E12: PROYECTO | F12: PLANES - PROGRAMAS - PROYECTOS - ACTIVIDADES | G12: PARTIDA PRESUPUESTARIA | H12: META | I12: INDICADOR | J12: PROGRAMACION CUATRIMESTRAL EN % | N12: DESDE | O12: HASTA | P12: MEDIO DE VERIFICACION | Q12: FONDOS PROPIOS | R12: FONDOS EXTERNOS | S12: SUB-UNIDAD RESPONSABLE | T12: NUEVO / ARRASTRE | U12: OBSERVACION
J13: I | K13: II | L13: III | M13: IV
A14: ALCALDIA | B14: 1 | C14: PDOT7 | D14: =VLOOKUP(C14,PDOT!$A$4:$B$11,2,0) -> Fortalecer los mecanismos de participación ciudadana en la gestión pública y en la implementación de proyectos de desarrollo, asegurando la transparencia y la rendición de cuentas de las autoridades locales. | E14: Gestión de comunicación transparente para la sociedad Guamoteña | F14: EDICIÓN,IMPRESIÓN,REPRODUCCIÓN,PUBLICACIONES,SUSCRIPCIONES,FOTOCOPIADO,TRADUCCIÓN,EMPASTADO,ENMARCACIÓN,SERIGRAFÍA, FOTOGRAFÍA, CARNETIZACIÓN, FILMACIÓN E IMÁGENES SATELITALES. | G14: 5.3.02.04 | H14: Brindar apoyo a 9000 estudiantes de los niveles inicial, básica y bachillerato | I14: =VLOOKUP(H14,PDOT!$B$28:$C$56,2,0) -> Porcentaje de adquisiciones, y procedimientos institucionales realizados vs Porcentaje de adquisiciones, y procedimientos institucionales terminados con éxito. | J14: 0.25 | K14: 0.25 | L14: 0.25 | M14: 0.25 | N14: =IF(J14,"ENERO",IF(K14,"ABRIL",IF(L14,"JULIO",IF(M14,"DICIEMBRE",0)))) -> ENERO | O14: =IF(M14,"DICIEMBRE",IF(L14,"SEPTIEMBRE",IF(K14,"JUNIO",IF(J14,"MARZO",0)))) -> DICIEMBRE | P14: INFORME DE PAGO | Q14: 3716 | S14: ASESORIA JURIDICA | T14: NUEVO | U14: INSTITUCIONAL
A15: ALCALDIA | B15: 2 | C15: PDOT7 | D15: =VLOOKUP(C15,PDOT!$A$4:$B$11,2,0) -> Fortalecer los mecanismos de participación ciudadana en la gestión pública y en la implementación de proyectos de desarrollo, asegurando la transparencia y la rendición de cuentas de las autoridades locales. | F15: DIFUSION DE LAS ACTIVIDADES OBRAS PROYECTOS Y RESOLUCIONES DEL GAD MUNICIPAL DEL CANTÓN GAMOTE A TRAVEZ DE MEDIOS DE COMUNICACIÓN. | G15: 5.3.02.07 | H15: Brindar apoyo a 9000 estudiantes de los niveles inicial, básica y bachillerato | I15: =VLOOKUP(H15,PDOT!$B$28:$C$56,2,0) -> Porcentaje de adquisiciones, y procedimientos institucionales realizados vs Porcentaje de adquisiciones, y procedimientos institucionales terminados con éxito. | J15: 0.25 | K15: 0.25 | L15: 0.25 | M15: 0.25 | N15: =IF(J15,"ENERO",IF(K15,"ABRIL",IF(L15,"JULIO",IF(M15,"DICIEMBRE",0)))) -> ENERO | O15: =IF(M15,"DICIEMBRE",IF(L15,"SEPTIEMBRE",IF(K15,"JUNIO",IF(J15,"MARZO",0)))) -> DICIEMBRE | P15: INFORME DE PAGO | Q15: 15000 | S15: COMUNICACIÓN SOCIAL | T15: NUEVO | U15: INSTITUCIONAL | AC15: BUSCADOR
A16: ALCALDIA | B16: 3 | C16: PDOT7 | D16: =VLOOKUP(C16,PDOT!$A$4:$B$11,2,0) -> Fortalecer los mecanismos de participación ciudadana en la gestión pública y en la implementación de proyectos de desarrollo, asegurando la transparencia y la rendición de cuentas de las autoridades locales. | F16: MANTENIMIENTO DE EQUIPOS INFORMATICOS Y EQUIPOS DE AUDIO Y VIDEO | G16: 5.3.07.04 | H16: Formar una escuela de fútbol para niños y jóvenes del cantón | I16: =VLOOKUP(H16,PDOT!$B$28:$C$56,2,0) -> Numero de visitas a asentamientos humanos consolidados desntro y fuera del Cantón | J16: 0.25 | K16: 0.25 | L16: 0.25 | M16: 0.25 | N16: =IF(J16,"ENERO",IF(K16,"ABRIL",IF(L16,"JULIO",IF(M16,"DICIEMBRE",0)))) -> ENERO | O16: =IF(M16,"DICIEMBRE",IF(L16,"SEPTIEMBRE",IF(K16,"JUNIO",IF(J16,"MARZO",0)))) -> DICIEMBRE | P16: ACTA ENTREGA RECEPCION | Q16: 3000 | S16: COMUNICACIÓN SOCIAL | T16: NUEVO | U16: INSTITUCIONAL
A17: ALCALDIA | B17: 4 | C17: PDOT7 | D17: =VLOOKUP(C17,PDOT!$A$4:$B$11,2,0) -> Fortalecer los mecanismos de participación ciudadana en la gestión pública y en la implementación de proyectos de desarrollo, asegurando la transparencia y la rendición de cuentas de las autoridades locales. | F17: ACCESORIOS PARA LA REPARACION Y MANTENIMIENTO DE EQUIPOS INFORMATICOS Y EQUIPOS DE AUDIO Y VIDEO | G17: 5.3.08.13 | H17: Formar una escuela de fútbol para niños y jóvenes del cantón | I17: =VLOOKUP(H17,PDOT!$B$28:$C$56,2,0) -> Numero de visitas a asentamientos humanos consolidados desntro y fuera del Cantón | J17: 0.25 | K17: 0.25 | L17: 0.25 | M17: 0.25 | N17: =IF(J17,"ENERO",IF(K17,"ABRIL",IF(L17,"JULIO",IF(M17,"DICIEMBRE",0)))) -> ENERO | O17: =IF(M17,"DICIEMBRE",IF(L17,"SEPTIEMBRE",IF(K17,"JUNIO",IF(J17,"MARZO",0)))) -> DICIEMBRE | P17: ACTA ENTREGA RECEPCION | Q17: 2000 | S17: COMUNICACIÓN SOCIAL | T17: NUEVO | U17: INSTITUCIONAL
A18: ALCALDIA | B18: 5 | C18: PDOT7 | D18: =VLOOKUP(C18,PDOT!$A$4:$B$11,2,0) -> Fortalecer los mecanismos de participación ciudadana en la gestión pública y en la implementación de proyectos de desarrollo, asegurando la transparencia y la rendición de cuentas de las autoridades locales. | F18: ADQUISICION DE MATERIALES DE OFICINA | G18: 5.3.08.04 | H18: Formar una escuela de fútbol para niños y jóvenes del cantón | I18: =VLOOKUP(H18,PDOT!$B$28:$C$56,2,0) -> Numero de visitas a asentamientos humanos consolidados desntro y fuera del Cantón | J18: 0.25 | K18: 0.25 | L18: 0.25 | M18: 0.25 | N18: =IF(J18,"ENERO",IF(K18,"ABRIL",IF(L18,"JULIO",IF(M18,"DICIEMBRE",0)))) -> ENERO | O18: =IF(M18,"DICIEMBRE",IF(L18,"SEPTIEMBRE",IF(K18,"JUNIO",IF(J18,"MARZO",0)))) -> DICIEMBRE | P18: INFORME DE SATISFACCION Y ACTA ENTREGA RECEPCION | Q18: 784 | S18: COMUNICACIÓN SOCIAL | T18: NUEVO | U18: INSTITUCIONAL
A19: ALCALDIA | B19: 6 | C19: PDOT7 | D19: =VLOOKUP(C19,PDOT!$A$4:$B$11,2,0) -> Fortalecer los mecanismos de participación ciudadana en la gestión pública y en la implementación de proyectos de desarrollo, asegurando la transparencia y la rendición de cuentas de las autoridades locales. | F19: MANTENIMIENTO DE SISTEMAS Y EQUIPOS DE TRANSMICIÓN | G19: 5.3.04.04 | H19: Formar una escuela de fútbol para niños y jóvenes del cantón | I19: =VLOOKUP(H19,PDOT!$B$28:$C$56,2,0) -> Numero de visitas a asentamientos humanos consolidados desntro y fuera del Cantón | J19: 0.25 | K19: 0.25 | L19: 0.25 | M19: 0.25 | N19: =IF(J19,"ENERO",IF(K19,"ABRIL",IF(L19,"JULIO",IF(M19,"DICIEMBRE",0)))) -> ENERO | O19: =IF(M19,"DICIEMBRE",IF(L19,"SEPTIEMBRE",IF(K19,"JUNIO",IF(J19,"MARZO",0)))) -> DICIEMBRE | P19: INFORME DE SATISFACCION Y ACTA ENTREGA RECEPCION | Q19: 8000 | S19: RADIO PÚBLICA | T19: NUEVO | U19: INSTITUCIONAL
A20: ALCALDIA | B20: 7 | C20: PDOT7 | D20: =VLOOKUP(C20,PDOT!$A$4:$B$11,2,0) -> Fortalecer los mecanismos de participación ciudadana en la gestión pública y en la implementación de proyectos de desarrollo, asegurando la transparencia y la rendición de cuentas de las autoridades locales. | F20: LICENCIAS Y/O SOFTWARE JAZLER STUDIO, ZARA RADIO PARA RESPALDO 24/7 DE PROGRAMACION DE LA RADIO | G20: 5.3.07.01 | H20: Formar una escuela de fútbol para niños y jóvenes del cantón | I20: =VLOOKUP(H20,PDOT!$B$28:$C$56,2,0) -> Numero de visitas a asentamientos humanos consolidados desntro y fuera del Cantón | J20: 0.25 | K20: 0.25 | L20: 0.25 | M20: 0.25 | N20: =IF(J20,"ENERO",IF(K20,"ABRIL",IF(L20,"JULIO",IF(M20,"DICIEMBRE",0)))) -> ENERO | O20: =IF(M20,"DICIEMBRE",IF(L20,"SEPTIEMBRE",IF(K20,"JUNIO",IF(J20,"MARZO",0)))) -> DICIEMBRE | P20: INFORME DE SATISFACCION Y ACTA ENTREGA RECEPCION | Q20: 7000 | S20: RADIO PÚBLICA | T20: NUEVO | U20: INSTITUCIONAL | V20: =+SUM(Q14:Q20) -> 39500
A21: ALCALDIA | B21: 8 | C21: PDOT7 | D21: =VLOOKUP(C21,PDOT!$A$4:$B$11,2,0) -> Fortalecer los mecanismos de participación ciudadana en la gestión pública y en la implementación de proyectos de desarrollo, asegurando la transparencia y la rendición de cuentas de las autoridades locales. | E21: GESTIÓN JURÍDICA | F21: COSTAS JUDICIALES Y PATROCINIO | G21: 5.7.02.06 | H21: Formar una escuela de fútbol para niños y jóvenes del cantón | I21: =VLOOKUP(H21,PDOT!$B$28:$C$56,2,0) -> Numero de visitas a asentamientos humanos consolidados desntro y fuera del Cantón | J21: 0.25 | K21: 0.25 | L21: 0.25 | M21: 0.25 | N21: =IF(J21,"ENERO",IF(K21,"ABRIL",IF(L21,"JULIO",IF(M21,"DICIEMBRE",0)))) -> ENERO | O21: =IF(M21,"DICIEMBRE",IF(L21,"SEPTIEMBRE",IF(K21,"JUNIO",IF(J21,"MARZO",0)))) -> DICIEMBRE | P21: INFORME DE SATISFACCION Y ACTA ENTREGA RECEPCION | Q21: 28000 | S21: ASESORIA JURIDICA | T21: NUEVO | U21: INSTITUCIONAL
A22: ALCALDIA | B22: 10 | C22: PDOT5 | D22: =VLOOKUP(C22,PDOT!$A$4:$B$11,2,0) -> Desarrollar y promocionar el turismo rural y el agroturismo como medios para diversificar la economía local, preservar el patrimonio cultural y natural, y proporcionar nuevas fuentes de ingreso para la comunidad. | F22: EXPROPIACIONES DE TERRENOS PARA EL GADM DEL CANTON GUAMOTE | G22: 8.4.03.02 | H22: Formar una escuela de fútbol para niños y jóvenes del cantón | I22: =VLOOKUP(H22,PDOT!$B$28:$C$56,2,0) -> Numero de visitas a asentamientos humanos consolidados desntro y fuera del Cantón | J22: 0.25 | K22: 0.25 | L22: 0.25 | M22: 0.25 | N22: =IF(J22,"ENERO",IF(K22,"ABRIL",IF(L22,"JULIO",IF(M22,"DICIEMBRE",0)))) -> ENERO | O22: =IF(M22,"DICIEMBRE",IF(L22,"SEPTIEMBRE",IF(K22,"JUNIO",IF(J22,"MARZO",0)))) -> DICIEMBRE | P22: INFORME DE SATISFACCION Y ACTA ENTREGA RECEPCION | Q22: 340000 | S22: ASESORIA JURIDICA | T22: NUEVO | U22: INSTITUCIONAL | V22: ARRASTRE
A23: ALCALDIA | B23: 11 | C23: PDOT7 | D23: =VLOOKUP(C23,PDOT!$A$4:$B$11,2,0) -> Fortalecer los mecanismos de participación ciudadana en la gestión pública y en la implementación de proyectos de desarrollo, asegurando la transparencia y la rendición de cuentas de las autoridades locales. | F23: ADQUISICION DE EQUIPOS INFORMATICOS | G23: 8.4.01.07 | H23: Formar una escuela de fútbol para niños y jóvenes del cantón | I23: =VLOOKUP(H23,PDOT!$B$28:$C$56,2,0) -> Numero de visitas a asentamientos humanos consolidados desntro y fuera del Cantón | J23: 0.25 | K23: 0.25 | L23: 0.25 | M23: 0.25 | N23: =IF(J23,"ENERO",IF(K23,"ABRIL",IF(L23,"JULIO",IF(M23,"DICIEMBRE",0)))) -> ENERO | O23: =IF(M23,"DICIEMBRE",IF(L23,"SEPTIEMBRE",IF(K23,"JUNIO",IF(J23,"MARZO",0)))) -> DICIEMBRE | P23: INFORME DE SATISFACCION Y ACTA ENTREGA RECEPCION | Q23: 5000 | S23: ASESORIA JURIDICA | T23: NUEVO | U23: INSTITUCIONAL
A24: ALCALDIA | B24: 12 | C24: PDOT7 | D24: =VLOOKUP(C24,PDOT!$A$4:$B$11,2,0) -> Fortalecer los mecanismos de participación ciudadana en la gestión pública y en la implementación de proyectos de desarrollo, asegurando la transparencia y la rendición de cuentas de las autoridades locales. | F24: ADQUISICION DE MATERIALES DE OFICINA | G24: 5.3.08.04 | H24: Formar una escuela de fútbol para niños y jóvenes del cantón | I24: =VLOOKUP(H24,PDOT!$B$28:$C$56,2,0) -> Numero de visitas a asentamientos humanos consolidados desntro y fuera del Cantón | J24: 0.25 | K24: 0.25 | L24: 0.25 | M24: 0.25 | N24: =IF(J24,"ENERO",IF(K24,"ABRIL",IF(L24,"JULIO",IF(M24,"DICIEMBRE",0)))) -> ENERO | O24: =IF(M24,"DICIEMBRE",IF(L24,"SEPTIEMBRE",IF(K24,"JUNIO",IF(J24,"MARZO",0)))) -> DICIEMBRE | P24: INFORME DE SATISFACCION Y ACTA ENTREGA RECEPCION | Q24: 2500 | S24: ASESORIA GENRAL | T24: NUEVO | U24: INSTITUCIONAL
A25: ALCALDIA | B25: 13 | C25: PDOT7 | D25: =VLOOKUP(C25,PDOT!$A$4:$B$11,2,0) -> Fortalecer los mecanismos de participación ciudadana en la gestión pública y en la implementación de proyectos de desarrollo, asegurando la transparencia y la rendición de cuentas de las autoridades locales. | F25: ADQUISICION DE PAQUETES INFORMATICOS OP LICENCIAS LEGALES | G25: 5.3.07.01 | H25: Formar una escuela de fútbol para niños y jóvenes del cantón | I25: =VLOOKUP(H25,PDOT!$B$28:$C$56,2,0) -> Numero de visitas a asentamientos humanos consolidados desntro y fuera del Cantón | J25: 0.25 | K25: 0.25 | L25: 0.25 | M25: 0.25 | N25: =IF(J25,"ENERO",IF(K25,"ABRIL",IF(L25,"JULIO",IF(M25,"DICIEMBRE",0)))) -> ENERO | O25: =IF(M25,"DICIEMBRE",IF(L25,"SEPTIEMBRE",IF(K25,"JUNIO",IF(J25,"MARZO",0)))) -> DICIEMBRE | P25: INFORME DE SATISFACCION Y ACTA ENTREGA RECEPCION | Q25: 4000 | S25: ASESORIA JURIDICA | T25: NUEVO | U25: INSTITUCIONAL
A26: TOTAL | Q26: =+SUM(Q14:Q25) -> 419000
A27: DIRECCION FINANCIERA - TECHO PRESUPUESTARIO $ 27,700.000
A28: DIRECCION | B28: NO. | C28: COD. | D28: Objetivo Estrategico PDyOT | E28: PROYECTO | F28: PLANES - PROGRAMAS - PROYECTOS - ACTIVIDADES | G28: PARTIDA PRESUPUESTARIA | H28: META | I28: INDICADOR | J28: PROGRAMACION CUATRIMESTRAL (%) | N28: DESDE | O28: HASTA | P28: MEDIO DE VERIFICACION | Q28: FONDOS PROPIOS | R28: FONDOS EXTERNOS | S28: SUB-UNIDAD RESPONSABLE | T28: NUEVO / ARRASTRE | U28: OBSERVACION
J29: I | K29: II | L29: III | M29: IV
A30: FINANCIERO | B30: 3 | C30: PDOT7 | D30: =VLOOKUP(C30,PDOT!$A$4:$B$11,2,0) -> Fortalecer los mecanismos de participación ciudadana en la gestión pública y en la implementación de proyectos de desarrollo, asegurando la transparencia y la rendición de cuentas de las autoridades locales. | F30: ADQUISICION DE EQUIPOS INFORMATICOS | H30: Atender a 240 adultos mayores de los sectores vulnerables del cantón Guamote hasta el 2027 | I30: =VLOOKUP(H30,PDOT!$B$28:$C$56,2,0) -> Porcentaje de adquisiciones, y procedimientos institucionales realizados vs Porcentaje de adquisiciones, y procedimientos institucionales terminados con éxito. | J30: 0.25 | K30: 0.25 | L30: 0.25 | M30: 0.25 | N30: =IF(J30,"ENERO",IF(K30,"ABRIL",IF(L30,"JULIO",IF(M30,"DICIEMBRE",0)))) -> ENERO | O30: =IF(M30,"DICIEMBRE",IF(L30,"SEPTIEMBRE",IF(K30,"JUNIO",IF(J30,"MARZO",0)))) -> DICIEMBRE | Q30: 5000 | S30: DEPARTAMENTO FINANCIERO | T30: NUEVO | U30: INSTITUCIONAL
A31: FINANCIERO | B31: 4 | C31: PDOT7 | D31: =VLOOKUP(C31,PDOT!$A$4:$B$11,2,0) -> Fortalecer los mecanismos de participación ciudadana en la gestión pública y en la implementación de proyectos de desarrollo, asegurando la transparencia y la rendición de cuentas de las autoridades locales. | F31: COMISIONES BANCARIAS | H31: Atender a 240 adultos mayores de los sectores vulnerables del cantón Guamote hasta el 2027 | I31: =VLOOKUP(H31,PDOT!$B$28:$C$56,2,0) -> Porcentaje de adquisiciones, y procedimientos institucionales realizados vs Porcentaje de adquisiciones, y procedimientos institucionales terminados con éxito. | J31: 0.25 | K31: 0.25 | L31: 0.25 | M31: 0.25 | N31: =IF(J31,"ENERO",IF(K31,"ABRIL",IF(L31,"JULIO",IF(M31,"DICIEMBRE",0)))) -> ENERO | O31: =IF(M31,"DICIEMBRE",IF(L31,"SEPTIEMBRE",IF(K31,"JUNIO",IF(J31,"MARZO",0)))) -> DICIEMBRE | Q31: 5500 | S31: DEPARTAMENTO FINANCIERO | T31: NUEVO | U31: INSTITUCIONAL
A32: FINANCIERO | B32: 5 | C32: PDOT7 | D32: =VLOOKUP(C32,PDOT!$A$4:$B$11,2,0) -> Fortalecer los mecanismos de participación ciudadana en la gestión pública y en la implementación de proyectos de desarrollo, asegurando la transparencia y la rendición de cuentas de las autoridades locales. | F32: EDICIÓN,IMPRESIÓN,REPRODUCCIÓN,PUBLICACIONES,SUSCRIPCIONES,FOTOCOPIADO,TRADUCCIÓN,EMPASTADO,ENMARCACIÓN,SERIGRAFÍA, FOTOGRAFÍA, CARNETIZACIÓN, FILMACIÓN E IMÁGENES SATELITALES. | H32: Atender a 240 adultos mayores de los sectores vulnerables del cantón Guamote hasta el 2027 | I32: =VLOOKUP(H32,PDOT!$B$28:$C$56,2,0) -> Porcentaje de adquisiciones, y procedimientos institucionales realizados vs Porcentaje de adquisiciones, y procedimientos institucionales terminados con éxito. | J32: 0.25 | K32: 0.25 | L32: 0.25 | M32: 0.25 | N32: =IF(J32,"ENERO",IF(K32,"ABRIL",IF(L32,"JULIO",IF(M32,"DICIEMBRE",0)))) -> ENERO | O32: =IF(M32,"DICIEMBRE",IF(L32,"SEPTIEMBRE",IF(K32,"JUNIO",IF(J32,"MARZO",0)))) -> DICIEMBRE | Q32: 17200 | S32: DEPARTAMENTO FINANCIERO | T32: NUEVO | U32: INSTITUCIONAL
A33: TOTAL | Q33: =SUM(Q30:Q32) -> 27700
A34: DIRECCION ADMINISTRATIVA - TECHO PRESUPUESTARIO $ 428,122.20
A35: DIRECCION | B35: NO. | C35: COD. | D35: Objetivo Estrategico PDyOT | E35: PROYECTO | F35: PLANES - PROGRAMAS - PROYECTOS - ACTIVIDADES | G35: PARTIDA PRESUPUESTARIA | H35: META | I35: INDICADOR | J35: PROGRAMACION CUATRIMESTRAL (%) | N35: DESDE | O35: HASTA | P35: MEDIO DE VERIFICACION | Q35: FONDOS PROPIOS | R35: FONDOS EXTERNOS | S35: SUB-UNIDAD RESPONSABLE | T35: NUEVO / ARRASTRE | U35: OBSERVACION
J36: I | K36: II | L36: III | M36: IV
A37: ADMINISTRATIVO | B37: 1 | C37: PDOT7 | D37: =VLOOKUP(C37,[2]PDOT!$A$4:$B$10,2,0) -> Fortalecer la estructura institucional para garantizar un sistema de gestión eficiente y de calidad que promueva la participación ciudadana | E37: GESTIÓN ADMINISTRATIVA | F37: LICENCIAMIOENTO DE PAQUETES Y SISTEMAS OPERATIVOS | G37: 5.3.07.02 | H37: Atender a 240 adultos mayores de los sectores vulnerables del cantón Guamote hasta el 2027 | I37: =VLOOKUP(H37,PDOT!$B$28:$C$56,2,0) -> Porcentaje de adquisiciones, y procedimientos institucionales realizados vs Porcentaje de adquisiciones, y procedimientos institucionales terminados con éxito. | J37: 0.25 | K37: 0.25 | L37: 0.25 | M37: 0.25 | N37: =IF(J37,"ENERO",IF(K37,"ABRIL",IF(L37,"JULIO",IF(M37,"DICIEMBRE",0)))) -> ENERO | O37: =IF(M37,"DICIEMBRE",IF(L37,"SEPTIEMBRE",IF(K37,"JUNIO",IF(J37,"ENERO",0)))) -> DICIEMBRE | P37: LICENCIAS | Q37: 25000 | S37: TICS | T37: NUEVO | U37: INSTITUCIONAL
A38: ADMINISTRATIVO | B38: 2 | C38: PDOT7 | D38: =VLOOKUP(C38,[2]PDOT!$A$4:$B$10,2,0) -> Fortalecer la estructura institucional para garantizar un sistema de gestión eficiente y de calidad que promueva la participación ciudadana | F38: EQUIPAMIENTO IMPRESORAS DE ALTO RENDIMIENTO | G38: 8.4.01.07 | H38: Atender a 240 adultos mayores de los sectores vulnerables del cantón Guamote hasta el 2027 | I38: =VLOOKUP(H38,PDOT!$B$28:$C$56,2,0) -> Porcentaje de adquisiciones, y procedimientos institucionales realizados vs Porcentaje de adquisiciones, y procedimientos institucionales terminados con éxito. | J38: 0.25 | K38: 0.25 | L38: 0.5 | N38: =IF(J38,"ENERO",IF(K38,"ABRIL",IF(L38,"JULIO",IF(M38,"DICIEMBRE",0)))) -> ENERO | O38: =IF(M38,"DICIEMBRE",IF(L38,"SEPTIEMBRE",IF(K38,"JUNIO",IF(J38,"ENERO",0)))) -> SEPTIEMBRE | P38: EQUIPAMIENTO | Q38: 12000 | S38: TICS | T38: NUEVO | U38: INSTITUCIONAL
A39: ADMINISTRATIVO | B39: 3 | C39: PDOT7 | D39: =VLOOKUP(C39,[2]PDOT!$A$4:$B$10,2,0) -> Fortalecer la estructura institucional para garantizar un sistema de gestión eficiente y de calidad que promueva la participación ciudadana | F39: ESTUDIO Y OPERACION DE PERMISOS DE RADIO FRECUENCIA PARA MOTOROLAS | G39: 5.3.06.05 | H39: Atender a 240 adultos mayores de los sectores vulnerables del cantón Guamote hasta el 2027 | I39: =VLOOKUP(H39,PDOT!$B$28:$C$56,2,0) -> Porcentaje de adquisiciones, y procedimientos institucionales realizados vs Porcentaje de adquisiciones, y procedimientos institucionales terminados con éxito. | J39: 0.25 | K39: 0.25 | L39: 0.5 | N39: =IF(J39,"ENERO",IF(K39,"ABRIL",IF(L39,"JULIO",IF(M39,"DICIEMBRE",0)))) -> ENERO | O39: =IF(M39,"DICIEMBRE",IF(L39,"SEPTIEMBRE",IF(K39,"JUNIO",IF(J39,"ENERO",0)))) -> SEPTIEMBRE | P39: EQUIPAMIENTO | Q39: 7000 | S39: TICS | T39: NUEVO | U39: INSTITUCIONAL
A40: ADMINISTRATIVO | B40: 4 | C40: PDOT7 | D40: =VLOOKUP(C40,[2]PDOT!$A$4:$B$10,2,0) -> Fortalecer la estructura institucional para garantizar un sistema de gestión eficiente y de calidad que promueva la participación ciudadana | F40: ADQUISICION DE EQUIPOS DE RADIO ENLACES | G40: 8.4.01.04 | H40: Atender a 240 adultos mayores de los sectores vulnerables del cantón Guamote hasta el 2027 | I40: =VLOOKUP(H40,PDOT!$B$28:$C$56,2,0) -> Porcentaje de adquisiciones, y procedimientos institucionales realizados vs Porcentaje de adquisiciones, y procedimientos institucionales terminados con éxito. | J40: 0.25 | K40: 0.25 | L40: 0.5 | N40: =IF(J40,"ENERO",IF(K40,"ABRIL",IF(L40,"JULIO",IF(M40,"DICIEMBRE",0)))) -> ENERO | O40: =IF(M40,"DICIEMBRE",IF(L40,"SEPTIEMBRE",IF(K40,"JUNIO",IF(J40,"ENERO",0)))) -> SEPTIEMBRE | P40: EQUIPAMIENTO | Q40: 5000 | S40: TICS | T40: NUEVO | U40: INSTITUCIONAL
A41: ADMINISTRATIVO | B41: 5 | C41: PDOT7 | D41: =VLOOKUP(C41,[2]PDOT!$A$4:$B$10,2,0) -> Fortalecer la estructura institucional para garantizar un sistema de gestión eficiente y de calidad que promueva la participación ciudadana | F41: SOPORTE TECNICO Y EQUIPOS PASIVOS DE TELECOMUNICACION | G41: 5.3.04.04 | H41: Atender a 240 adultos mayores de los sectores vulnerables del cantón Guamote hasta el 2027 | I41: =VLOOKUP(H41,PDOT!$B$28:$C$56,2,0) -> Porcentaje de adquisiciones, y procedimientos institucionales realizados vs Porcentaje de adquisiciones, y procedimientos institucionales terminados con éxito. | J41: 0.25 | K41: 0.25 | L41: 0.25 | M41: 0.25 | N41: =IF(J41,"ENERO",IF(K41,"ABRIL",IF(L41,"JULIO",IF(M41,"DICIEMBRE",0)))) -> ENERO | O41: =IF(M41,"DICIEMBRE",IF(L41,"SEPTIEMBRE",IF(K41,"JUNIO",IF(J41,"ENERO",0)))) -> DICIEMBRE | Q41: 7000 | S41: TICS | T41: NUEVO | U41: INSTITUCIONAL
A42: ADMINISTRATIVO | B42: 7 | C42: PDOT7 | D42: =VLOOKUP(C42,[2]PDOT!$A$4:$B$10,2,0) -> Fortalecer la estructura institucional para garantizar un sistema de gestión eficiente y de calidad que promueva la participación ciudadana | F42: ADQUISICIÓN DE EQUIPOS, SUMINISTROS INFORMÁTICOS | G42: 5.3.08.13 | H42: Atender a 240 adultos mayores de los sectores vulnerables del cantón Guamote hasta el 2027 | I42: =VLOOKUP(H42,PDOT!$B$28:$C$56,2,0) -> Porcentaje de adquisiciones, y procedimientos institucionales realizados vs Porcentaje de adquisiciones, y procedimientos institucionales terminados con éxito. | J42: 0.25 | K42: 0.25 | L42: 0.5 | N42: =IF(J42,"ENERO",IF(K42,"ABRIL",IF(L42,"JULIO",IF(M42,"DICIEMBRE",0)))) -> ENERO | O42: =IF(M42,"DICIEMBRE",IF(L42,"SEPTIEMBRE",IF(K42,"JUNIO",IF(J42,"ENERO",0)))) -> SEPTIEMBRE | P42: EQUIPAMIENTO | Q42: 10000 | S42: TICS | T42: NUEVO | U42: INSTITUCIONAL
A43: ADMINISTRATIVO | B43: 8 | C43: PDOT7 | D43: =VLOOKUP(C43,[2]PDOT!$A$4:$B$10,2,0) -> Fortalecer la estructura institucional para garantizar un sistema de gestión eficiente y de calidad que promueva la participación ciudadana | F43: MANTENIMIENTO DE EQUIPOS DE VIDEO Y SONIDO | G43: 5.3.04.04 | H43: Atender a 240 adultos mayores de los sectores vulnerables del cantón Guamote hasta el 2027 | I43: =VLOOKUP(H43,PDOT!$B$28:$C$56,2,0) -> Porcentaje de adquisiciones, y procedimientos institucionales realizados vs Porcentaje de adquisiciones, y procedimientos institucionales terminados con éxito. | J43: 0.25 | K43: 0.25 | L43: 0.25 | M43: 0.25 | N43: =IF(J43,"ENERO",IF(K43,"ABRIL",IF(L43,"JULIO",IF(M43,"DICIEMBRE",0)))) -> ENERO | O43: =IF(M43,"DICIEMBRE",IF(L43,"SEPTIEMBRE",IF(K43,"JUNIO",IF(J43,"ENERO",0)))) -> DICIEMBRE | P43: EQUIPAMIENTO | Q43: 6000 | S43: TICS | T43: NUEVO | U43: INSTITUCIONAL
A44: ADMINISTRATIVO | B44: 10 | C44: PDOT7 | D44: =VLOOKUP(C44,[2]PDOT!$A$4:$B$10,2,0) -> Fortalecer la estructura institucional para garantizar un sistema de gestión eficiente y de calidad que promueva la participación ciudadana | F44: CONTRATACION DE POLIZAS DE SEGURO PARA BIENS Y PERSONAL DEL GADMC GUAMOTE | G44: 5.7.02.01 | H44: Atender a 240 adultos mayores de los sectores vulnerables del cantón Guamote hasta el 2027 | I44: =VLOOKUP(H44,PDOT!$B$28:$C$56,2,0) -> Porcentaje de adquisiciones, y procedimientos institucionales realizados vs Porcentaje de adquisiciones, y procedimientos institucionales terminados con éxito. | J44: 0.25 | K44: 0.25 | L44: 0.5 | N44: =IF(J44,"ENERO",IF(K44,"ABRIL",IF(L44,"JULIO",IF(M44,"DICIEMBRE",0)))) -> ENERO | O44: =IF(M44,"DICIEMBRE",IF(L44,"SEPTIEMBRE",IF(K44,"JUNIO",IF(J44,"ENERO",0)))) -> SEPTIEMBRE | P44: POLIZAS | Q44: 75000 | S44: DEPARTAMENTO ADMINISTRATIVO | T44: NUEVO | U44: INSTITUCIONAL
A45: ADMINISTRATIVO | B45: 11 | C45: PDOT7 | D45: =VLOOKUP(C45,[2]PDOT!$A$4:$B$10,2,0) -> Fortalecer la estructura institucional para garantizar un sistema de gestión eficiente y de calidad que promueva la participación ciudadana | F45: UNIFORMES PARA EL PERSONAL DEL GAD MCG | G45: 5.3.08.02 | H45: Atender a 240 adultos mayores de los sectores vulnerables del cantón Guamote hasta el 2027 | I45: =VLOOKUP(H45,PDOT!$B$28:$C$56,2,0) -> Porcentaje de adquisiciones, y procedimientos institucionales realizados vs Porcentaje de adquisiciones, y procedimientos institucionales terminados con éxito. | J45: 0.25 | K45: 0.25 | L45: 0.5 | N45: =IF(J45,"ENERO",IF(K45,"ABRIL",IF(L45,"JULIO",IF(M45,"DICIEMBRE",0)))) -> ENERO | O45: =IF(M45,"DICIEMBRE",IF(L45,"SEPTIEMBRE",IF(K45,"JUNIO",IF(J45,"ENERO",0)))) -> SEPTIEMBRE | P45: PRENDAS DE PROTECCION | Q45: 4000 | S45: DEPARTAMENTO ADMINISTRATIVO | T45: NUEVO | U45: INSTITUCIONAL
A46: ADMINISTRATIVO | B46: 12 | C46: PDOT7 | D46: =VLOOKUP(C46,[2]PDOT!$A$4:$B$10,2,0) -> Fortalecer la estructura institucional para garantizar un sistema de gestión eficiente y de calidad que promueva la participación ciudadana | F46: ADQUISICION DE VESTUARIO, LENCERIA Y PRENDAS DE PROTECCION PARA EL GAD-MCG | G46: 7.3.08.02 | H46: Atender a 240 adultos mayores de los sectores vulnerables del cantón Guamote hasta el 2027 | I46: =VLOOKUP(H46,PDOT!$B$28:$C$56,2,0) -> Porcentaje de adquisiciones, y procedimientos institucionales realizados vs Porcentaje de adquisiciones, y procedimientos institucionales terminados con éxito. | J46: 0.25 | K46: 0.25 | L46: 0.5 | N46: =IF(J46,"ENERO",IF(K46,"ABRIL",IF(L46,"JULIO",IF(M46,"DICIEMBRE",0)))) -> ENERO | O46: =IF(M46,"DICIEMBRE",IF(L46,"SEPTIEMBRE",IF(K46,"JUNIO",IF(J46,"ENERO",0)))) -> SEPTIEMBRE | P46: PRENDAS DE PROTECCION | Q46: 40000 | S46: SEGURIDAD Y SALUD EN EL TRABAJO | T46: NUEVO | U46: INSTITUCIONAL
A47: ADMINISTRATIVO | B47: 13 | C47: PDOT7 | D47: =VLOOKUP(C47,[2]PDOT!$A$4:$B$10,2,0) -> Fortalecer la estructura institucional para garantizar un sistema de gestión eficiente y de calidad que promueva la participación ciudadana | F47: ADQUISICION DE MEDICAMENTOS E INSUMOS MEDICOS | G47: 5.3.08.09 | H47: Atender a 240 adultos mayores de los sectores vulnerables del cantón Guamote hasta el 2027 | I47: =VLOOKUP(H47,PDOT!$B$28:$C$56,2,0) -> Porcentaje de adquisiciones, y procedimientos institucionales realizados vs Porcentaje de adquisiciones, y procedimientos institucionales terminados con éxito. | J47: 0.25 | K47: 0.25 | L47: 0.5 | N47: =IF(J47,"ENERO",IF(K47,"ABRIL",IF(L47,"JULIO",IF(M47,"DICIEMBRE",0)))) -> ENERO | O47: =IF(M47,"DICIEMBRE",IF(L47,"SEPTIEMBRE",IF(K47,"JUNIO",IF(J47,"ENERO",0)))) -> SEPTIEMBRE | P47: MEDICAMENTO E INSUMOS MEDICOS | Q47: 2000 | S47: SEGURIDAD Y SALUD EN EL TRABAJO | T47: NUEVO | U47: INSTITUCIONAL
...

Sheet Hoja1
B2: OBJETIVOS | G2: OB1 | I2: OB2 | K2: OB3 | M2: OB4
A3: ORDENADA EN DESARROLLO | B3: OB_1 | C3: Organizar el territorio cantonal con soluciones para las deficiencias de ordenamiento, infraestructura, equipamiento de servicios públicos, movilidad y transporte, vivienda, ambiente y gestión de riesgos. | G3: Planificar y ejercer el control del uso y ocupación del suelo del cantón, así como los planes de ordenamiento territorial. | I3: Proporcionar servicios de salud de calidez y calidad a cada uno de los grupos sociales del cantón Guamote. | K3: Fomentar el ejercicio de actividades económicas, empresariales o profesionales, que se desarrollen en cantón Guamote. | M3: Promover un cambio de cultura organizacional, para responder a las necesidades de los clientes- usuarios.
A4: TRANSPARENCIA Y HUMANA | B4: OB_2 | C4: Mejorar las condiciones sociales de los ciudadanos y ciudadanas, coordinando acciones que permitan satisfacer las demandas de la población con el fin de mejorar la calidad de vida. | G4: Desarrollar planes y programas cantonales de vivienda de interés social para implementar el derecho al hábitat y a la vivienda. | I4: Implementar política pública local para la promoción y construcción de equidad, género e inclusión en el cantón. | K4: Promover el desarrollo de la actividad turística cantonal. | M4: Fortalecer la participación democrática de la sociedad en la planeación, ejecución y evaluación del GADC, Guamote
A5: ECONÓMICA Y PRODUCTIVA | B5: OB_3 | C5: Alcanzar un crecimiento equilibrado y equitativo de la producción, el comercio y los servicios, de forma consensuada entre el municipio y los diferentes actores locales. | G5: Elaborar y administrar los catastros inmobiliarios urbanos y rurales. | I5: Promover y patrocinar las culturas, las artes, actividades deportivas y recreativas en beneficio de la colectividad. | M5: Demostrar a la ciudadanía que existe un gobierno transparente, como resultado de la correcta inversión de los recursos públicos.
A6: GOBIERNO LOCAL FORTALECIDO, CERCANO Y TRANSPARENTE | B6: OB_4 | C6: Implementar mecanismos que permitan fortalecer y generar la participación social, con el fin de tener cercanía con la ciudadanía y trabajar con certeza en las necesidades que demanda la población. | G6: Construir obra pública con criterios de calidad, eficacia y eficiencia. | I6: Construir y mantener la infraestructura física en los espacios públicos destinados al desarrollo deportivo y recreacional.
G7: Construir y mantener espacios públicos destinados al desarrollo social, cultural y deportivo cantonal. | I7: Formular y ejecutar políticas locales de planes seguridad y convivencia ciudadana.
G8: Prestar servicios públicos de calidad.
G9: Planificar el control del tránsito y transporte , así como la construcción y el mantenimiento de la vialidad urbana
G10: Regular y controlar la contaminación ambiental, el uso y acceso a lechos de ríos, lagos y lagunas del cantón.
G11: Gestionar los servicios de prevención, protección, socorro y extinción de incendios;
B15: OBJEVITVOS ALCALDE

Sheet PDOT
A3: PDOTOBJ
A4: PDOT1 | B4: Incrementar la productividad agrícola y la sostenibilidad ambiental mediante la adopción de prácticas agrícolas modernas y respetuosas con el medio ambiente, asegurando la conservación de la biodiversidad y el mantenimiento de la fertilidad del suelo.
A5: PDOT2 | B5: Establecer Guamote como un referente de productos agrícolas de alta calidad, impulsando iniciativas de certificación, mejoramiento de la cadena de valor y estrategias de marketing que promuevan la identidad cultural y la sostenibilidad.
A6: PDOT3 | B6: Mejorar significativamente la infraestructura vial hacia el sector rural y los servicios básicos, priorizando el acceso universal a agua potable, saneamiento, energía renovable y conectividad, para mejorar la calidad de vida y fomentar la igualdad de oportunidades.
A7: PDOT4 | B7: Garantizar la oferta de programas educativos y de capacitación continua que respondan a las necesidades del desarrollo sostenible de Guamote, enfatizando en la agroecología, el manejo de recursos y la gestión territorial.
A8: PDOT5 | B8: Desarrollar y promocionar el turismo rural y el agroturismo como medios para diversificar la economía local, preservar el patrimonio cultural y natural, y proporcionar nuevas fuentes de ingreso para la comunidad.
A9: PDOT6 | B9: Implementar políticas y programas para la conservación de la biodiversidad y el uso sostenible de los recursos naturales, incluyendo la creación de áreas protegidas y la promoción de prácticas de reforestación.
A10: PDOT7 | B10: Fortalecer los mecanismos de participación ciudadana en la gestión pública y en la implementación de proyectos de desarrollo, asegurando la transparencia y la rendición de cuentas de las autoridades locales.
A11: PDOT8 | B11: Mejorar el acceso a los servicios de salud, con un enfoque en la prevención y nutrición infantil, atención a mujeres y grupos en situación de vulnerabilidad, atención en salud que integre los conocimientos tradicionales y las prácticas de salud modernas, para lograr una población rural saludable y bien informada. | J11: METAS
D13: PDOT1 | F13: PDOT2 | H13: PDOT3 | J13: PDOT4 | L13: PDOT5 | N13: PDOT6 | P13: PDOT8 | R13: PDOT7
D14: Atención a 30 proyectos productivos en el cantón | F14: Dotar a 120 comunidades de semovientes de raza mejorada hasta el 2027 | H14: Ejecutar 4 programas destinados a la recolección y manejo adecuado de residuos solidos al 2027 | J14: Invertir en la educación con un enfoque en la agroecología y gestión territorial, permitiendo que jóvenes y adultos adquieran habilidades pertinentes para el desarrollo local. Se promoverán programas de formación técnica y profesional que estén alineados con las necesidades del cantón. | L14: Difundir 4 eventos culturales que promuevan la identidad cultural del cantón Guamote anualmente al 2022 | N14: Actualización del plan de uso y gestión del suelo para el sector rural del cantón Guamote | P14: Atender a 160 niñas, niños y adolescentes entre 5 y 17 años de los sectores vulnerables del cantón Guamote hasta el 2027 | R14: Formar una escuela de fútbol para niños y jóvenes del cantón
F15: Elaborar un estudio y diseño del mercado mayorista del cantón Guamote hasta el 2024 | H15: Colocación de 30 contenedores de basura en comunidades rurales | P15: Atender a 240 adultos mayores de los sectores vulnerables del cantón Guamote hasta el 2027 | R15: Brindar apoyo a 9000 estudiantes de los niveles inicial, básica y bachillerato
F16: Realizar mantenimiento a 10 infraestructuras existentes y brindar capacitación a los productores agrícolas y ganaderos | H16: Programa de recuperación ambiental de las cuencas hídricas del cantón, en una longitud de 2km, en el tramo que atraviesa la ciudad y otros ríos | P16: Habilitar un espacio físico, funcional y con asistencia técnica, como centro de acogida de mujeres en situación de vulnerabilidad | R16: Repotenciación de la Piscina Municipal de Guamote
H17: Mejorar el servicio de cobertura de agua potable de 50comunidades del cantón Guamote al 2023. | R17: Implementar anualmente 3 mecanismos de participación ciudadana en las actividades desarrolladas por el Gobierno Cantonal hasta el 2027
H18: Mejorar y construir sistemas de alcantarillado de 5 comunidades al 2030 | R18: Realizar 2 capacitaciones al año
H19: Construcción de una planta de tratamiento para la cabecera cantonal
H20: Construir, mantener y reparar la infraestructura destinada a servicios, recreación, deporte, cultura y comercio en el Cantón, hasta el 2027
H21: Planificar, construir y mantener 15 espacios públicos destinados al desarrollo social, cultural y deportivo
H22: Actualización del Catastro del cantón.
H23: Elaboración de estudios de regeneración urbana y construcción del proyecto
H24: Construcción de nuevas conexiones viales, Mantenimiento vial de 85 kilómetros en todo el cantón, al 2027
H25: Dotar de adoquinado, asfaltado y mejoramiento de capas de rodadura de las calles de la cabecera cantonal, y los centros poblados de las parroquias del cantón Guamote hasta 2027. Ampliar a 4 carriles la vía E35.
H26: Dotar a 5 barrios y/o comunidades del servicio de alumbrado eléctrico a 2027
B27: META | C27: INDICADOR | H27: Habilitar Infocentro en espacios públicos y centros poblados de 10 comunidades, con la facilidad de conexión wiffi gratuito para toda la población
B28: Atención a 30 proyectos productivos en el cantón | C28: Número de Hectáreas de áreas naturales protegidas
B29: Dotar a 120 comunidades de semovientes de raza mejorada hasta el 2027 | C29: Número de niñas, niños y adolescentes atendidos
B30: Elaborar un estudio y diseño del mercado mayorista del cantón Guamote hasta el 2024 | C30: Números de adultos mayores atendidos
B31: Realizar mantenimiento a 10 infraestructuras existentes y brindar capacitación a los productores agrícolas y ganaderos | C31: Número de eventos culturales difundidos
B32: Ejecutar 4 programas destinados a la recolección y manejo adecuado de residuos solidos al 2027 | C32: Número de estudios y diseños elaborados
B33: Colocación de 30 contenedores de basura en comunidades rurales | C33: Número de comunidades con cobertura de agua potable mejoradas
B34: Programa de recuperación ambiental de las cuencas hídricas del cantón, en una longitud de 2km, en el tramo que atraviesa la ciudad y otros ríos | C34: Número de viviendas con redes de alcantarillado
B35: Mejorar el servicio de cobertura de agua potable de 50comunidades del cantón Guamote al 2023. | C35: Número de comunidades con sistema de alcantarillado mejorado
B36: Mejorar y construir sistemas de alcantarillado de 5 comunidades al 2030 | C36: Número de comunidades con sistema de alcantarillado mejorado
B37: Construcción de una planta de tratamiento para la cabecera cantonal | C37: Número de plantas de tratamiento de aguas residuales mantenidas
B38: Construir, mantener y reparar la infraestructura destinada a servicios, recreación, deporte, cultura y comercio en el Cantón, hasta el 2027 | C38: Número de plantas de tratamiento de aguas residuales mantenidas
B39: Planificar, construir y mantener 15 espacios públicos destinados al desarrollo social, cultural y deportivo | C39: Número de programas destinados a la recolección y manejo adecuado de desechos sólidos ejecutados
... B56: Habilitar un espacio físico, funcional y con asistencia técnica, como centro de acogida de mujeres en situación de vulnerabilidad | C56: Porcentaje de adquisiciones, y procedimientos institucionales realizados vs Porcentaje de adquisiciones, y procedimientos institucionales terminados con éxito.
N57: INFORME DE PAGO
N58: ACTA ENTREGA RECEPCION
N59: ACTA ENTREGA RECEPCION
...

Sheet DIRECCIONES
B3: DIRECCIONES | D3: ALCALDIA | E3: DIRECCION FINANCIERA | F3: DIRECCION ADMINISTRATIVA | G3: REGISTRO DE LA PROPIEDAD | H3: DIRECCION DE PLANIFICACION Y ORDENAMIENTO TERRITORIAL | I3: DIRECCION DE DESARROLLO LOCAL | J3: MIES | K3: DIRECCION DE OBRAS PUBLICAS
B4: ALCALDIA | D4: ASESORIA GENRAL | E4: DEPARTAMENTO FINANCIERO | F4: TICS | G4: REGISTRO DE LA PROPIEDAD | H4: PLANIFICACION Y ORDENAMIENTO TERRITORIAL | I4: UNIDAD DE DESARROLLO ECONÓMICO | J4: UNIDAD DEL MIES | K4: OBRAS PUBLICAS
B5: FINANCIERO | H5: SEGURIDAD CIUDADANA Y GESTIÓN DE RIESGOS
B6: ADMINISTRATIVO | D6: COMUNICACIÓN SOCIAL | F6: SERVICIOS GENERALES | H6: PLANIFICACION URBANISTICA Y PATRIMONIO | I6: UNIDAD DE SERVICIOS MUNICIPALES | K6: EQUIPO CAMINERO
B7: REGISTRO | D7: RADIO PUBLICA | F7: SEGURIDAD Y SALUD EN EL TRABAJO | H7: AVALUOS Y CATASTROS | I7: UNIDAD DE TURISMO, CULTURA, RECREACIÓN Y DEPORTES | K7: JEFATURA DE GESTIÓN AMBIENTAL
B8: PLANIFICACION | D8: ASESORIA JURIDICA | F8: DEPARTAMENTO ADMINISTRATIVO | H8: JEFATURA DE TRANSITO Y TRANSPORTE | I8: GRUPOS DE ATENCION PRIORITARIO | K8: SUBDIRECCION DE AGUA POTABLE Y ALCANTARILLADO
B9: DESARROLLO | F9: TALENTO HUMANO | H9: GESTION DE RIESGOS
B10: MIES
B11: OBRAS

Sheet OB-ME-IN
B1: METAS | C1: INDICADOR
B2: Adquisición de insumos, bienes y servicios que son esenciales para llevar a cabo las funciones administrativas financieras y operativas de nuestra institución, de manera satisfactoria, garantizando un buen funcionamiento de la institución. | C2: Porcentaje de adquisiciones, y procedimientos institucionales realizados vs Porcentaje de adquisiciones, y procedimientos institucionales terminados con éxito.
B3: Fortalecer los mecanismos de vinculación con la comunidad en los diferentes servicios y actividades que desarrolla el GADMCG | C3: Procentaje de promoción y difusión en medios de comunicacion, así como formularios, afiches, tótems, invitaciones y papelería en general.
B4: Regenerar y planificar el sistema vial y de movilidad del canton en busca de la mejora de las condiciones de vida y los sistemas sociales y economicos del canton. | C4: ÍNDICE DE EJECUCIÓN DE PROYECTOS VIALES= # de proyectos ejecutados/# de proyectos planificados.
B5: Regenerar las zonas urbanas consolidadas y contar con una planificacion urbana territorial a largo plazo. | C5: ÍNDICE DE EJECUCIÓN DE PROYECTOS/ESTUDIOS= # de proyectos ejecutados/# de proyectos planificados.
B6: Planificar, construir y mantener la infraestructura física y los equipamientos de salud y educacion, así como los espacios públicos destinados al desarrollo social, cultural y deportivo, de acuerdo con la ley. | C6: ÍNDICE DE EJECUCIÓN DE PROYECTOS= # de proyectos ejecutados/# de proyectos planificados.
B7: Dotar de agua segura, alcantarillado y tratamiento de aguas residuales progresivamente al canton Guamote. | C7: ÍNDICE DE EJECUCIÓN DE PROYECTOS DE AGUA POTABLE Y ALCANTARILLADO= # de proyectos ejecutados/# de proyectos planificados.
B8: Fortalecimiento de las cadenas productivas del canton | C8: ÍNDICE DE EJECUCIÓN DE PROYECTOS DE PRODUCTIVOS= # de proyectos ejecutados/# de proyectos planificados.
B9: Difundir eventos culturales que promuevan la identidad cultural del cantón Guamote | C9: # de eventos culturales difundidos
B10: Mejorar la calidad de vida de los sectores más vulnerables del cantón a través de la articulación y coordinación con los programas sociales del gobierno nacional. | C10: Número # de niñas, niños, adolescentes, mujeres embarazadas y adultos mayores atendidos
B11: Implementar mecanismos de participación ciudadana en las actividades desarrolladas por el Gobierno Cantonal | C11: Número de mecanismos de participación implementados.
B12: Dotar de adoquinado a calles del canton Guamote | C12: ÍNDICE DE EJECUCIÓN DE PROYECTOS DE ADOQUINADO = # de proyectos ejecutados/# de proyectos planificados.
